BEGIN:VCALENDAR
VERSION:2.0
PRODID:-//Columbia-Greene Workforce NY - ECPv6.15.20//NONSGML v1.0//EN
CALSCALE:GREGORIAN
METHOD:PUBLISH
X-ORIGINAL-URL:https://columbiagreeneworks.org
X-WR-CALDESC:Events for Columbia-Greene Workforce NY
REFRESH-INTERVAL;VALUE=DURATION:PT1H
X-Robots-Tag:noindex
X-PUBLISHED-TTL:PT1H
BEGIN:VTIMEZONE
TZID:America/New_York
BEGIN:DAYLIGHT
TZOFFSETFROM:-0500
TZOFFSETTO:-0400
TZNAME:EDT
DTSTART:20250309T070000
END:DAYLIGHT
BEGIN:STANDARD
TZOFFSETFROM:-0400
TZOFFSETTO:-0500
TZNAME:EST
DTSTART:20251102T060000
END:STANDARD
BEGIN:DAYLIGHT
TZOFFSETFROM:-0500
TZOFFSETTO:-0400
TZNAME:EDT
DTSTART:20260308T070000
END:DAYLIGHT
BEGIN:STANDARD
TZOFFSETFROM:-0400
TZOFFSETTO:-0500
TZNAME:EST
DTSTART:20261101T060000
END:STANDARD
BEGIN:DAYLIGHT
TZOFFSETFROM:-0500
TZOFFSETTO:-0400
TZNAME:EDT
DTSTART:20270314T070000
END:DAYLIGHT
BEGIN:STANDARD
TZOFFSETFROM:-0400
TZOFFSETTO:-0500
TZNAME:EST
DTSTART:20271107T060000
END:STANDARD
END:VTIMEZONE
BEGIN:VEVENT
DTSTART;TZID=America/New_York:20260430T093000
DTEND;TZID=America/New_York:20260430T130000
DTSTAMP:20260424T230824
CREATED:20260331T060148Z
LAST-MODIFIED:20260424T060018Z
UID:4300-1777541400-1777554000@columbiagreeneworks.org
SUMMARY:Glens Falls Community Job Fair
DESCRIPTION:Thursday\, April 30\, 2026\, 9:30am – 1pm  \nParticipating Businesses: \n \nBast Hatfield Construction\nBehavioral Health Services North (BHSN)\nEmpire Oral Surgery\nL.E.A.P\nMarquis Homecare\nNew York State Department of Corrections & Community Supervision \nNYS Dept. of Civil Service\nQueensbury Union Free School District \nVisiting Nurses Home Care\nWSWHE BOCES \nWWAARC\n\nHeld At: Crandall Public Library\, 251 Glens St.\, Glens Falls\, NY 12801 Event Type: Job Fair County: Warren Region: Capital Region Audience: All Interested Jobseekers Registration Information: No pre-registration required. Walk-ins welcome!\, Remember to bring copies of your resume and dress professional.\, For more information\, please email:\, Kimberly Haviland\, (518)824-8887\, kimberly.haviland@labor.ny.gov
URL:https://columbiagreeneworks.org/event/glens-falls-community-job-fair/
END:VEVENT
BEGIN:VEVENT
DTSTART;TZID=America/New_York:20260430T110000
DTEND;TZID=America/New_York:20260430T120000
DTSTAMP:20260424T230824
CREATED:20260331T060148Z
LAST-MODIFIED:20260424T060018Z
UID:4301-1777546800-1777550400@columbiagreeneworks.org
SUMMARY:Social Media Strategies
DESCRIPTION:This is a virtual workshop\, please click the Zoom link below to register: \nzoom.us… Thursday\, April 30\, 2026\, 11am – 12pm  \nSocial Media is an essential part of living in an interconnected world. Everyday people share\, like\, and post millions of times across various platforms. But how can social media influence job search? There are many benefits to using social media for your job search\, as well as pitfalls. Join us to learn strategies for using social media in your job search. Create an appropriate online presence and build your brand to stay ahead of the competition. \nFor participants with disabilities\, if you require any reasonable accommodations to participate in the event\, please notify the Customer Engagement unit at least 72 hours prior to the event at virtualworkshops@labor.ny.gov. We will make every reasonable effort to secure an accommodation that will meet your needs.  \nRegistration Link: zoom.us… More info: zoom.us…
URL:https://columbiagreeneworks.org/event/social-media-strategies-7/
END:VEVENT
BEGIN:VEVENT
DTSTART;TZID=America/New_York:20260430T110000
DTEND;TZID=America/New_York:20260430T140000
DTSTAMP:20260424T230824
CREATED:20260424T060018Z
LAST-MODIFIED:20260424T060018Z
UID:4491-1777546800-1777557600@columbiagreeneworks.org
SUMMARY:The CDL School Career Fair
DESCRIPTION:Thursday\, April 30\, 2026\, 11am – 2pm  \nCome meet local and national employers to learn about the industry and open CDL positions earning up to $87\,000 annually plus benefits. Interview with our admissions team and pre-qualify for CDL training and employment. \nParticipating Businesses: \n \nBay State Pools\nCasella Waste Systems \nCoca-Cola Northeast \nDiversified Transport \nHerringtons \nMcLane Company \nNYS Deaprtment of Labor\nNYS DOT \nShay Legacy Foundation (TANY) \nXPO Logistics\n\nHeld At: Holiday Inn Express & Conference Center\, 400 Old Loudon Rd.\, Latham\, NY 12110 Event Type: Job Fair County: Albany Region: Capital Region Audience: All Interested Jobseekers Registration Information: No pre-registration required. Walk-ins welcome!\, Remember to bring copies of your resume and dress professional.\, For more information\, please email:\, Tina Dawson\, Tina.Dawson@labor.ny.gov More info: cdlschool.com
URL:https://columbiagreeneworks.org/event/the-cdl-school-career-fair/
END:VEVENT
BEGIN:VEVENT
DTSTART;TZID=America/New_York:20260430T130000
DTEND;TZID=America/New_York:20260430T140000
DTSTAMP:20260424T230824
CREATED:20260331T060149Z
LAST-MODIFIED:20260424T060019Z
UID:4302-1777554000-1777557600@columbiagreeneworks.org
SUMMARY:Career Assessment and Exploration
DESCRIPTION:This is a virtual workshop\, please click the Zoom link below to register: \nzoom.us… Thursday\, April 30\, 2026\, 1 – 2pm  \nFor many of us our career path does not take a straight line\, or always go the direction we wanted. In this presentation we’ll take a moment to reflect on your path thus far and think about where you might want to go next. Participants will learn about career assessments\, suggested job titles\, researching those job titles\, and creating a career plan. \nFor participants with disabilities\, if you require any reasonable accommodations to participate in the event\, please notify the Customer Engagement unit at least 72 hours prior to the event at virtualworkshops@labor.ny.gov. We will make every reasonable effort to secure an accommodation that will meet your needs. \nRegistration Link: zoom.us… More info: zoom.us…
URL:https://columbiagreeneworks.org/event/career-assessment-and-exploration-15/
END:VEVENT
BEGIN:VEVENT
DTSTART;TZID=America/New_York:20260430T130000
DTEND;TZID=America/New_York:20260430T140000
DTSTAMP:20260424T230824
CREATED:20260331T060149Z
LAST-MODIFIED:20260424T060019Z
UID:4303-1777554000-1777557600@columbiagreeneworks.org
SUMMARY:InterviewStream: Interview Prep Tool
DESCRIPTION:This is a virtual workshop\, please click the Zoom link below to register: \nzoom.us… Thursday\, April 30\, 2026\, 1 – 2pm  \nLanding and attending interviews can be time-consuming\, nerve-racking\, and even intimidating. Interviews are a job seekers best chance to express why an employer should hire you. Capitalizing on each interview opportunity by practicing and feeling well prepared is important when searching for a job. In this workshop\, you’ll learn more about NYS DOL’s InterviewStream service which is an online interview preparation site that offers the ability to record and review practice interviews\, access lists of frequently asked and industry-related interview questions\, connect with a workforce advisor and other resources\, complete self-assessments\, and much more so you can feel best prepared prior to sitting down for your next interview. \nFor participants with disabilities\, if you require any reasonable accommodations to participate in the event\, please notify the Customer Engagement unit at least 72 hours prior to the event at virtualworkshops@labor.ny.gov. We will make every reasonable effort to secure an accommodation that will meet your needs.  \nRegistration Link: zoom.us… More info: zoom.us…
URL:https://columbiagreeneworks.org/event/interviewstream-interview-prep-tool-7/
END:VEVENT
BEGIN:VEVENT
DTSTART;TZID=America/New_York:20260430T140000
DTEND;TZID=America/New_York:20260430T160000
DTSTAMP:20260424T230824
CREATED:20260121T110127Z
LAST-MODIFIED:20260424T060020Z
UID:3400-1777557600-1777564800@columbiagreeneworks.org
SUMMARY:NYS Office for People with Developmental Disabilities - Recruitment
DESCRIPTION:Thursday\, April 30\, 2026\, 2 – 4pm  \nApply online at: \nopwdd.ny.gov…  \nHeld At: OPWDD Office at Care Lane\, 3 Care Lane\, 2nd Floor\, Saratoga Springs\, NY 12866 Region: Capital Region County: Saratoga Event Type: Recruitment Registration Information: No pre-registration or appointment needed.\, Walk-in interviews! Bring your resume and dress professional.\, For more information:\, Call: (518)388-0838\, -OR-\, Email: CapitalDistrict.Careers@opwdd.ny.gov Job Openings: Direct Support Professionals (DSPs) provide assistance to people with all of their personal needs and help them participate in programs that strengthen their life skills and ensure a safe and comfortable environment. There are several titles at OPWDD that make up our team of Direct Support Professionals. They are described as follows:\, JOB TITLE: Direct Support Assistant (DSA)\, JOB SUMMARY: As a DSA for OPWDD you will help people by assisting them to learn and develop daily living skills and habits; you will help them take care of their own personal needs; you will advocate for\, encourage\, guide and teach people to express personal choice. DSAs ensure community integration\, health and safety and a comfortable home environment. The supports and services you will provide depend on the specific abilities of the person being served\, and the nature of the setting where the activities are taking place.\, JOB REQUIREMENTS:\, – High school diploma or an equivalency\, such as a GED\, – Valid NYS Driver's License (Required to maintain this throughout your employment as a DSA.)\, – Must meet physical and agility standards\, – Have a medical examination before you are appointed (You are responsible for the payment of the clinical laboratory fee. The medical exam includes psychological and drug screening.)\, – Must be cleared through the New York State Child Abuse Registry\, the Justice Center for the Protection of People with Special Needs and the Medicaid Fraud Prevention and Detection database\, – Be subject to a criminal background check and fingerprinting (You will be responsible for the processing fee.)\, WAGES: Starting at $25.01 Hourly\, BENEFITS: Health insurance\, retirement plan\, and generous leave benefits.\, JOB TITLE: Developmental Disabilities Secure Care Treatment Aide (DDSCTA)\, JOB SUMMARY: An OPWDD DDSCTA treats and cares for people with intellectual and developmental disabilities in intensive treatment units. As a DDSCTA\, you provide a safe\, secure and stable environment where people can receive the therapeutic care needed for stabilization and treatment.\, JOB REQUIREMENTS:\, – High school diploma\, OR an equivalency\, such as a GED\, OR a Direct Support Professional (DSP) Certificate from an accredited organization; AND successfully complete a DDSCTA traineeship OR have 1 year of full-time direct care experience working with individuals with developmental or intellectual disabilities\, – Have a valid NYS Driver's License (Required to maintain a valid driver's license throughout your employment as a DDSCTA.)\, – Must meet physical and agility standards\, – Have a medical examination before you are appointed (You are responsible for the payment of the clinical laboratory fee. The medical exam includes psychological and drug screening.)\, – Must be cleared through the New York State Child Abuse Registry\, the Justice Center for the Protection of People with Special Needs and the Medicaid Fraud Prevention and Detection data base\, – Be subject to a criminal background check and fingerprinting (You will be responsible for the processing fee.)\, WAGES: Starting at $25.01 Hourly\, BENEFITS: Health insurance\, retirement plan\, and generous leave benefits. More info: opwdd.ny.gov…
URL:https://columbiagreeneworks.org/event/nys-office-for-people-with-developmental-disabilities-recruitment-29/
END:VEVENT
BEGIN:VEVENT
DTSTART;TZID=America/New_York:20260430T170000
DTEND;TZID=America/New_York:20260430T183000
DTSTAMP:20260424T230824
CREATED:20260416T060042Z
LAST-MODIFIED:20260424T060020Z
UID:4403-1777568400-1777573800@columbiagreeneworks.org
SUMMARY:Demystifying the Civil Service System Webinar
DESCRIPTION:Thursday\, April 30\, 2026\, 5 – 6:30pm  \nJoin us for a free online webinar that breaks down the New York State Civil Service Merit System in a clear and easy-to-understand way. Perfect for job seekers\, college students\, and high school students\, this session will explain how civil service works and how to get started with a career in public service. \nTopics will include: \n \nHow the Civil Service Merit System Works\nCivil Service Exam Process\nNY HELPS Program\nCareer Pathways with New York State Agencies\nHow to Find and Apply for Internships\, Fellowships\, and State Jobs\n\nLearn how the system works\, explore career opportunities\, and get your questions answered.  \nHeld At: Virtual Event Event Type: Virtual Workshop County: Virtual Workshop Region: Multiple Regions Audience: All Interested Jobseekers Registration Information: Register online at: nysjobsvirtualworkshop043026.eventbrite.com  After registering\, you will receive a virtual ticket that will include a link to join the webinar. More info: nysjobsvirtualworkshop043026.eventbrite.com
URL:https://columbiagreeneworks.org/event/demystifying-the-civil-service-system-webinar/
END:VEVENT
END:VCALENDAR