BEGIN:VCALENDAR
VERSION:2.0
PRODID:-//Columbia-Greene Workforce NY - ECPv6.15.20//NONSGML v1.0//EN
CALSCALE:GREGORIAN
METHOD:PUBLISH
X-WR-CALNAME:Columbia-Greene Workforce NY
X-ORIGINAL-URL:https://columbiagreeneworks.org
X-WR-CALDESC:Events for Columbia-Greene Workforce NY
REFRESH-INTERVAL;VALUE=DURATION:PT1H
X-Robots-Tag:noindex
X-PUBLISHED-TTL:PT1H
BEGIN:VTIMEZONE
TZID:America/New_York
BEGIN:DAYLIGHT
TZOFFSETFROM:-0500
TZOFFSETTO:-0400
TZNAME:EDT
DTSTART:20250309T070000
END:DAYLIGHT
BEGIN:STANDARD
TZOFFSETFROM:-0400
TZOFFSETTO:-0500
TZNAME:EST
DTSTART:20251102T060000
END:STANDARD
BEGIN:DAYLIGHT
TZOFFSETFROM:-0500
TZOFFSETTO:-0400
TZNAME:EDT
DTSTART:20260308T070000
END:DAYLIGHT
BEGIN:STANDARD
TZOFFSETFROM:-0400
TZOFFSETTO:-0500
TZNAME:EST
DTSTART:20261101T060000
END:STANDARD
BEGIN:DAYLIGHT
TZOFFSETFROM:-0500
TZOFFSETTO:-0400
TZNAME:EDT
DTSTART:20270314T070000
END:DAYLIGHT
BEGIN:STANDARD
TZOFFSETFROM:-0400
TZOFFSETTO:-0500
TZNAME:EST
DTSTART:20271107T060000
END:STANDARD
END:VTIMEZONE
BEGIN:VEVENT
DTSTART;TZID=America/New_York:20260424T103000
DTEND;TZID=America/New_York:20260424T113000
DTSTAMP:20260424T061109
CREATED:20260324T060043Z
LAST-MODIFIED:20260424T060005Z
UID:4208-1777026600-1777030200@columbiagreeneworks.org
SUMMARY:Networking
DESCRIPTION:Friday\, April 24\, 2026\, 10:30 – 11:30am  \nBeyond Job Searches: Networking is your strategic tool for cultivating lasting relationships\, fostering professional growth\, and unlocking opportunities. It’s more than finding jobs; it’s a pivotal force propelling higher salaries and career advancement. Networking is the workout regimen your career muscle craves. Join us for an approachable journey to networking.   \nHeld At: Virtual Workshop Event Type: Virtual Workshop County: Albany Region: Capital Region Audience: All Interested Jobseekers Language: English Registration Information: bit.ly… More info: bit.ly…
URL:https://columbiagreeneworks.org/event/networking-30/
END:VEVENT
BEGIN:VEVENT
DTSTART;TZID=America/New_York:20260424T110000
DTEND;TZID=America/New_York:20260424T120000
DTSTAMP:20260424T061109
CREATED:20260331T060141Z
LAST-MODIFIED:20260424T060006Z
UID:4290-1777028400-1777032000@columbiagreeneworks.org
SUMMARY:Chat with an Employment Counselor
DESCRIPTION:This is a virtual workshop\, please click the Zoom link below to register: \nzoom.us… Friday\, April 24\, 2026\, 11am – 12pm  \nJoin this open chat forum which is designed to address all your job search related questions. Employment Counselors provide advice\, insight\, and resources to aid job seekers in making important career decisions. Join this one hour open ‘chat’ to ask our counselors any questions about job searching\, resumes\, interviewing techniques\, cover letters and career paths\, while also learning from the other participants questions and topics. Any of these can be stressful if you’re not sure where to look or where to start. The topics will be driven by customers questions and will be different every week. Feel free to join us frequently. \nFor participants with disabilities\, if you require any reasonable accommodations to participate in the event\, please notify the Customer Engagement unit at least 72 hours prior to the event at virtualworkshops@labor.ny.gov. We will make every reasonable effort to secure an accommodation that will meet your needs. \nRegistration Link: zoom.us… More info: zoom.us…
URL:https://columbiagreeneworks.org/event/chat-with-an-employment-counselor-31/
END:VEVENT
END:VCALENDAR