BEGIN:VCALENDAR
VERSION:2.0
PRODID:-//Columbia-Greene Workforce NY - ECPv6.15.20//NONSGML v1.0//EN
CALSCALE:GREGORIAN
METHOD:PUBLISH
X-WR-CALNAME:Columbia-Greene Workforce NY
X-ORIGINAL-URL:https://columbiagreeneworks.org
X-WR-CALDESC:Events for Columbia-Greene Workforce NY
REFRESH-INTERVAL;VALUE=DURATION:PT1H
X-Robots-Tag:noindex
X-PUBLISHED-TTL:PT1H
BEGIN:VTIMEZONE
TZID:America/New_York
BEGIN:DAYLIGHT
TZOFFSETFROM:-0500
TZOFFSETTO:-0400
TZNAME:EDT
DTSTART:20250309T070000
END:DAYLIGHT
BEGIN:STANDARD
TZOFFSETFROM:-0400
TZOFFSETTO:-0500
TZNAME:EST
DTSTART:20251102T060000
END:STANDARD
BEGIN:DAYLIGHT
TZOFFSETFROM:-0500
TZOFFSETTO:-0400
TZNAME:EDT
DTSTART:20260308T070000
END:DAYLIGHT
BEGIN:STANDARD
TZOFFSETFROM:-0400
TZOFFSETTO:-0500
TZNAME:EST
DTSTART:20261101T060000
END:STANDARD
BEGIN:DAYLIGHT
TZOFFSETFROM:-0500
TZOFFSETTO:-0400
TZNAME:EDT
DTSTART:20270314T070000
END:DAYLIGHT
BEGIN:STANDARD
TZOFFSETFROM:-0400
TZOFFSETTO:-0500
TZNAME:EST
DTSTART:20271107T060000
END:STANDARD
END:VTIMEZONE
BEGIN:VEVENT
DTSTART;TZID=America/New_York:20260423T093000
DTEND;TZID=America/New_York:20260423T120000
DTSTAMP:20260423T063054
CREATED:20260408T060048Z
LAST-MODIFIED:20260423T060013Z
UID:4364-1776936600-1776945600@columbiagreeneworks.org
SUMMARY:Resume Refresh
DESCRIPTION:Thursday\, April 23\, 2026\, 9:30am – 12pm  \nJoin us for Resume Refresh on Thursday April 23rd from 9:30am-Noon and meet with our Employment Counselor for individual critique and advisement. \nNo registration is needed\, just walk in with your resume. \nCareer Center Location: Carmel Career Center Held At: 110 Old Route 6\, Building 3\, Carmel\, NY 10512 Event Type: Information Session County: Putnam Region: Hudson Valley Audience: All Interested Jobseekers Registration Information: No registration required\, just walk in.\, Please be prepared to show government issued photo ID when coming to the Career center.
URL:https://columbiagreeneworks.org/event/resume-refresh-3/
END:VEVENT
BEGIN:VEVENT
DTSTART;TZID=America/New_York:20260423T100000
DTEND;TZID=America/New_York:20260423T110000
DTSTAMP:20260423T063054
CREATED:20260313T172339Z
LAST-MODIFIED:20260423T060014Z
UID:4096-1776938400-1776942000@columbiagreeneworks.org
SUMMARY:Money Tips for Small Business Owners: Preparing Your Personal Finances as You Start Your Small Business
DESCRIPTION:Thursday\, April 23\, 2026\, 10 – 11am  \nLearn practical money-saving tips and financial strategies for small business owners at our event! All are welcome to attend. \nGuest speaker Andrea Collin is the Outreach Coordinator with Consumer Credit Counseling Service of Rochester. \nRochesterWorks is an equal opportunity program. Auxiliary aids and services are available to individuals with disabilities by calling 585-258-3500\, TTY 800-662-1220.  \nCareer Center Location: RochesterWorks Career Center (College Ave) Held At: Virtual Event Event Type: Virtual Workshop County: Monroe Region: Finger Lakes Audience: All Interested Jobseekers Language: English Registration Information: To register\, please visit mtbo.eventbrite.com\, Online Access:\, You will receive an email from Eventbrite with the Zoom link to join. Be sure to check your SPAM folder if you don’t see the email. RochesterWorks is an equal opportunity program. Auxiliary aids and services are available upon request to individuals with disabilities by calling 585-258-3500 or TTY 800-662-1220. More info: mtbo.eventbrite.com
URL:https://columbiagreeneworks.org/event/money-tips-for-small-business-owners-preparing-your-personal-finances-as-you-start-your-small-business/
END:VEVENT
BEGIN:VEVENT
DTSTART;TZID=America/New_York:20260423T100000
DTEND;TZID=America/New_York:20260423T120000
DTSTAMP:20260423T063054
CREATED:20260407T060038Z
LAST-MODIFIED:20260423T060014Z
UID:4339-1776938400-1776945600@columbiagreeneworks.org
SUMMARY:Albany Guardian Society Job Fair
DESCRIPTION:Thursday\, April 23\, 2026\, 10am – 12pm  \nThis event has available parking and is also on the bus line. \nParticipating Businesses: \n \nCity of Albany Administrative / HR\nDaughter for Hire LLC\nNY Creates \nNYS Department of Labor\nNYS Department of Taxation and Finance\nSchenectady County Department of Social Services\nSt.Peter's Health Partners\nTSA\nUmbrella of the Capital District\nUnited States Post Office\nVA – Medical Foster Home Program\n\nHeld At: Albany Guardian Society 12 Corporate Woods Blvd.\, 1st Floor\, Albany\, NY 12211 Event Type: Job Fair County: Albany Region: Capital Region Audience: All Interested Jobseekers Registration Information: No pre-registration required. Walk-ins welcome!\, Remember to bring copies of your resume and dress professional.\, For more information\, please email:\, Tina Dawson\, Tina.Dawson@labor.ny.gov More info: albanyguardiansociety.org
URL:https://columbiagreeneworks.org/event/albany-guardian-society-job-fair/
END:VEVENT
BEGIN:VEVENT
DTSTART;TZID=America/New_York:20260423T110000
DTEND;TZID=America/New_York:20260423T120000
DTSTAMP:20260423T063054
CREATED:20260331T060138Z
LAST-MODIFIED:20260423T060015Z
UID:4287-1776942000-1776945600@columbiagreeneworks.org
SUMMARY:Skills Based Resume Writing
DESCRIPTION:This is a virtual workshop\, please click the Zoom link below to register: \nzoom.us… Thursday\, April 23\, 2026\, 11am – 12pm  \nThis workshop will help you understand the purpose of a resume\, review concepts in building a resume\, and discuss how to effectively convey your talents specifically to the job you’re applying for. We will provide helpful tips on the construction of your resume\, information on what hiring businesses are looking for\, and even transform a sample resume into a Skills Based format! Additionally\, we will touch on cover letters and how to search for quality job leads. For participants with disabilities\, if you require any reasonable accommodations to participate in the event\, please notify the Customer Engagement unit at least 72 hours prior to the event at virtualworkshops@labor.ny.gov. We will make every reasonable effort to secure an accommodation that will meet your needs.  \nRegistration Link: zoom.us… More info: zoom.us…
URL:https://columbiagreeneworks.org/event/skills-based-resume-writing-8/
END:VEVENT
BEGIN:VEVENT
DTSTART;TZID=America/New_York:20260423T130000
DTEND;TZID=America/New_York:20260423T140000
DTSTAMP:20260423T063054
CREATED:20251121T110336Z
LAST-MODIFIED:20260423T060015Z
UID:2759-1776949200-1776952800@columbiagreeneworks.org
SUMMARY:Ghost Jobs
DESCRIPTION:Thursday\, April 23\, 2026\, 1 – 2pm  \nHave you ever… \nApplied for a job and never got a call back? \nSeen the same job over and over on line? \nBeen told they were ‘Going with someone else’ but the job is still posted as open? \nIF SO\, THEN JOIN US!  \nCareer Center Location: Yonkers Career Center Held At: 28 Wells Ave Building 3\, 4th floor\, Yonkers\, NY 10701 Event Type: Workshop County: Westchester Region: Hudson Valley Audience: All Interested Jobseekers Language: English Registration Information: To register\, Contact us!\, 914-461-9077\, yonkers.dews@labor.ny.gov More info: dol.ny.gov…
URL:https://columbiagreeneworks.org/event/ghost-jobs-7/
END:VEVENT
BEGIN:VEVENT
DTSTART;TZID=America/New_York:20260423T130000
DTEND;TZID=America/New_York:20260423T140000
DTSTAMP:20260423T063054
CREATED:20260331T060138Z
LAST-MODIFIED:20260423T060016Z
UID:4288-1776949200-1776952800@columbiagreeneworks.org
SUMMARY:Coping with Job Loss and Moving On
DESCRIPTION:This is a virtual workshop\, please click the Zoom link below to register: \nzoom.us… Thursday\, April 23\, 2026\, 1 – 2pm  \nThe job search is stressful: that’s a fact. However\, you are not alone and there is hope. Join us to learn about stress prevention and coping strategies. We will also provide relaxation techniques to combat stress from the job search and throughout your life. \nFor participants with disabilities\, if you require any reasonable accommodations to participate in the event\, please notify the Customer Engagement unit at least 72 hours prior to the event at virtualworkshops@labor.ny.gov. We will make every reasonable effort to secure an accommodation that will meet your needs.  \nRegistration Link: zoom.us… More info: zoom.us…
URL:https://columbiagreeneworks.org/event/coping-with-job-loss-and-moving-on-15/
END:VEVENT
BEGIN:VEVENT
DTSTART;TZID=America/New_York:20260423T130000
DTEND;TZID=America/New_York:20260423T140000
DTSTAMP:20260423T063054
CREATED:20260331T060139Z
LAST-MODIFIED:20260423T060016Z
UID:4289-1776949200-1776952800@columbiagreeneworks.org
SUMMARY:Give Yourself Credit: SUNY Empire State College Information Session
DESCRIPTION:This is a virtual workshop\, please click the Zoom link below to register: \nzoom.us… Thursday\, April 23\, 2026\, 1 – 2pm  \nWhether you’re planning to start your degree or finish something you started years ago\, now is the time to take the next step and attend an information session. Join us to learn about:• Admission requirements• Application process• Financial aid\, costs\, and payment plans• Transfer credit• Mentor support• Student support services• Important dates and deadlinesThe workshop includes time for questions and answers. Invest an hour. Invest in yourself. Attend to begin — or continue — your academic journey! \nFor participants with disabilities\, if you require any reasonable accommodations to participate in the event\, please notify the Customer Engagement unit at least 72 hours prior to the event at virtualworkshops@labor.ny.gov. We will make every reasonable effort to secure an accommodation that will meet your needs. \nRegistration Link: zoom.us… More info: zoom.us…
URL:https://columbiagreeneworks.org/event/give-yourself-credit-suny-empire-state-college-information-session-8/
END:VEVENT
BEGIN:VEVENT
DTSTART;TZID=America/New_York:20260423T133000
DTEND;TZID=America/New_York:20260423T143000
DTSTAMP:20260423T063054
CREATED:20260324T060042Z
LAST-MODIFIED:20260423T060016Z
UID:4207-1776951000-1776954600@columbiagreeneworks.org
SUMMARY:Social Media
DESCRIPTION:Thursday\, April 23\, 2026\, 1:30 – 2:30pm  \nYour social media presence can make or break your ability to find a job. Don’t let your digital footprint hold you back. Learn how to use social media to your advantage in searching for a job and marketing yourself to land the job or career you’ve always wanted.   \nHeld At: Virtual Workshop Event Type: Virtual Workshop County: Albany Region: Capital Region Audience: All Interested Jobseekers Language: English Registration Information: bit.ly… More info: bit.ly…
URL:https://columbiagreeneworks.org/event/social-media-9/
END:VEVENT
BEGIN:VEVENT
DTSTART;TZID=America/New_York:20260423T140000
DTEND;TZID=America/New_York:20260423T150000
DTSTAMP:20260423T063054
CREATED:20260415T060027Z
LAST-MODIFIED:20260423T060017Z
UID:4398-1776952800-1776956400@columbiagreeneworks.org
SUMMARY:Digital Literacy Info Session
DESCRIPTION:Thursday\, April 23\, 2026\, 2 – 3pm  \nRegister for our April Digital Literacy Info Session being held on Thursday April 23rd at 2 pm and learn about programs that can improve your technology skills\, for daily computer use or job search purposes. \n*Please be prepared to show Government issued Photo ID when coming to the Career Center. \nCareer Center Location: Carmel Career Center Held At: 110 Old Route 6 Building 3\, Carmel\, NY 10512 Event Type: Information Session County: Putnam Region: Hudson Valley Audience: All Interested Jobseekers Language: English Registration Information: Email:  victoria.petruziello@labor.ny.gov to reserve your spot as space is limited.
URL:https://columbiagreeneworks.org/event/digital-literacy-info-session-5/
END:VEVENT
BEGIN:VEVENT
DTSTART;TZID=America/New_York:20260423T140000
DTEND;TZID=America/New_York:20260423T160000
DTSTAMP:20260423T063054
CREATED:20260121T110126Z
LAST-MODIFIED:20260423T060017Z
UID:3398-1776952800-1776960000@columbiagreeneworks.org
SUMMARY:NYS Office for People with Developmental Disabilities - Recruitment
DESCRIPTION:Thursday\, April 23\, 2026\, 2 – 4pm  \nApply online at: \nopwdd.ny.gov…  \nHeld At: OPWDD Office at Care Lane\, 3 Care Lane\, 2nd Floor\, Saratoga Springs\, NY 12866 Region: Capital Region County: Saratoga Event Type: Recruitment Registration Information: No pre-registration or appointment needed.\, Walk-in interviews! Bring your resume and dress professional.\, For more information:\, Call: (518)388-0838\, -OR-\, Email: CapitalDistrict.Careers@opwdd.ny.gov Job Openings: Direct Support Professionals (DSPs) provide assistance to people with all of their personal needs and help them participate in programs that strengthen their life skills and ensure a safe and comfortable environment. There are several titles at OPWDD that make up our team of Direct Support Professionals. They are described as follows:\, JOB TITLE: Direct Support Assistant (DSA)\, JOB SUMMARY: As a DSA for OPWDD you will help people by assisting them to learn and develop daily living skills and habits; you will help them take care of their own personal needs; you will advocate for\, encourage\, guide and teach people to express personal choice. DSAs ensure community integration\, health and safety and a comfortable home environment. The supports and services you will provide depend on the specific abilities of the person being served\, and the nature of the setting where the activities are taking place.\, JOB REQUIREMENTS:\, – High school diploma or an equivalency\, such as a GED\, – Valid NYS Driver's License (Required to maintain this throughout your employment as a DSA.)\, – Must meet physical and agility standards\, – Have a medical examination before you are appointed (You are responsible for the payment of the clinical laboratory fee. The medical exam includes psychological and drug screening.)\, – Must be cleared through the New York State Child Abuse Registry\, the Justice Center for the Protection of People with Special Needs and the Medicaid Fraud Prevention and Detection database\, – Be subject to a criminal background check and fingerprinting (You will be responsible for the processing fee.)\, WAGES: Starting at $25.01 Hourly\, BENEFITS: Health insurance\, retirement plan\, and generous leave benefits.\, JOB TITLE: Developmental Disabilities Secure Care Treatment Aide (DDSCTA)\, JOB SUMMARY: An OPWDD DDSCTA treats and cares for people with intellectual and developmental disabilities in intensive treatment units. As a DDSCTA\, you provide a safe\, secure and stable environment where people can receive the therapeutic care needed for stabilization and treatment.\, JOB REQUIREMENTS:\, – High school diploma\, OR an equivalency\, such as a GED\, OR a Direct Support Professional (DSP) Certificate from an accredited organization; AND successfully complete a DDSCTA traineeship OR have 1 year of full-time direct care experience working with individuals with developmental or intellectual disabilities\, – Have a valid NYS Driver's License (Required to maintain a valid driver's license throughout your employment as a DDSCTA.)\, – Must meet physical and agility standards\, – Have a medical examination before you are appointed (You are responsible for the payment of the clinical laboratory fee. The medical exam includes psychological and drug screening.)\, – Must be cleared through the New York State Child Abuse Registry\, the Justice Center for the Protection of People with Special Needs and the Medicaid Fraud Prevention and Detection data base\, – Be subject to a criminal background check and fingerprinting (You will be responsible for the processing fee.)\, WAGES: Starting at $25.01 Hourly\, BENEFITS: Health insurance\, retirement plan\, and generous leave benefits. More info: opwdd.ny.gov…
URL:https://columbiagreeneworks.org/event/nys-office-for-people-with-developmental-disabilities-recruitment-27/
END:VEVENT
END:VCALENDAR