BEGIN:VCALENDAR
VERSION:2.0
PRODID:-//Columbia-Greene Workforce NY - ECPv6.15.20//NONSGML v1.0//EN
CALSCALE:GREGORIAN
METHOD:PUBLISH
X-WR-CALNAME:Columbia-Greene Workforce NY
X-ORIGINAL-URL:https://columbiagreeneworks.org
X-WR-CALDESC:Events for Columbia-Greene Workforce NY
REFRESH-INTERVAL;VALUE=DURATION:PT1H
X-Robots-Tag:noindex
X-PUBLISHED-TTL:PT1H
BEGIN:VTIMEZONE
TZID:America/New_York
BEGIN:DAYLIGHT
TZOFFSETFROM:-0500
TZOFFSETTO:-0400
TZNAME:EDT
DTSTART:20250309T070000
END:DAYLIGHT
BEGIN:STANDARD
TZOFFSETFROM:-0400
TZOFFSETTO:-0500
TZNAME:EST
DTSTART:20251102T060000
END:STANDARD
BEGIN:DAYLIGHT
TZOFFSETFROM:-0500
TZOFFSETTO:-0400
TZNAME:EDT
DTSTART:20260308T070000
END:DAYLIGHT
BEGIN:STANDARD
TZOFFSETFROM:-0400
TZOFFSETTO:-0500
TZNAME:EST
DTSTART:20261101T060000
END:STANDARD
BEGIN:DAYLIGHT
TZOFFSETFROM:-0500
TZOFFSETTO:-0400
TZNAME:EDT
DTSTART:20270314T070000
END:DAYLIGHT
BEGIN:STANDARD
TZOFFSETFROM:-0400
TZOFFSETTO:-0500
TZNAME:EST
DTSTART:20271107T060000
END:STANDARD
END:VTIMEZONE
BEGIN:VEVENT
DTSTART;TZID=America/New_York:20260422T100000
DTEND;TZID=America/New_York:20260422T110000
DTSTAMP:20260424T043217
CREATED:20251216T110049Z
LAST-MODIFIED:20260422T060026Z
UID:2973-1776852000-1776855600@columbiagreeneworks.org
SUMMARY:Networking Workshop
DESCRIPTION:Wednesday\, April 22\, 2026\, 10 – 11am  \nNetworking is contacting people who can either give you information about potential job openings or introduce you to others who have this information. The goal of networking is to meet the person who has the authority to hire you for the job you want. This workshop will share some best practices for networking in today’s workforce. \nCareer Center Location: Orange Works Career Center – Middletown Held At: 18 Seward Ave\, Middletown\, NY 10940 Event Type: Workshop County: Orange Region: Hudson Valley Audience: All Interested Jobseekers Language: English Registration Information: Registration can be done via email Middletown.does@labor.ny.gov or by calling us at 845-360-0340.
URL:https://columbiagreeneworks.org/event/networking-workshop-10/
END:VEVENT
BEGIN:VEVENT
DTSTART;TZID=America/New_York:20260422T100000
DTEND;TZID=America/New_York:20260422T110000
DTSTAMP:20260424T043217
CREATED:20251216T110049Z
LAST-MODIFIED:20260422T060027Z
UID:2974-1776852000-1776855600@columbiagreeneworks.org
SUMMARY:Resume Writing Workshop
DESCRIPTION:Wednesday\, April 22\, 2026\, 10 – 11am  \nA resume is your number one marketing tool. Learn how to display your skills\, knowledge\, abilities\, and experience in an exciting format that says\, “Hire me!” See how to create an effective cover letter and put your job skills package together. \nCareer Center Location: Orange Works Career Center – Middletown Held At: 18 Seward Ave\, Middletown\, NY 10940 Event Type: Workshop County: Orange Region: Hudson Valley Audience: All Interested Jobseekers Language: English Registration Information: Registration can be done via email Middletown.does@labor.ny.gov or by calling us at 845-360-0340.
URL:https://columbiagreeneworks.org/event/resume-writing-workshop-2/
END:VEVENT
BEGIN:VEVENT
DTSTART;TZID=America/New_York:20260422T100000
DTEND;TZID=America/New_York:20260422T160000
DTSTAMP:20260424T043217
CREATED:20260321T060040Z
LAST-MODIFIED:20260422T060025Z
UID:4174-1776852000-1776873600@columbiagreeneworks.org
SUMMARY:Albany Job Fair
DESCRIPTION:Wednesday\, April 22\, 2026\, 10am – 4pm  \nParticipating Businesses: \n \n Absolute Fire Pro\n Air National Guard\n Albany Broadcasting\n Albany Police Dept.\n Appolo Heating\n Arrow Financial Corporation\n Ballston Spa National Bank\n Capital Region BOCES\n City School District of Albany\n Conifer Park\n Express Employment Professionals\n Fusco Personnel\n Home Instead\n Hudson Valley Community College\n Janitronics\n Janitronics Clean Techs\n KIPP Capital region Public Schools\n Mildred Elley\n MVP Health Care\n New York Life\n Niskayuna Central School District\n NPA Financial\n NY State of Health\n NYS Comptrollers Office\n NYS Dept. of Civil Service\n NYS Dept. of Corrections\n NYS Dept. of Labor\n NYS DMV\n NYS DOL | Veterans Services\n NYS Information & Technology Services\n NYS OGS\n NYS Troopers\n NYS Unified Court System\n Philips\n Pinellas County Sheriff’s Office\n Public Partnerships LLC\n Redshift Recruiting\n RPI\n Sausville Benson Financial\n Schenectady County Civil Service\n Spectrum\n St. Colman’s Home\n Sunmark Credit Union\n Sunrise Management and Consulting\n The Mailworks\n Tri Cities Rentals\n Trustco Bank\n Vanderheyden Hall\n\nHeld At: Holiday Inn Express & Conference Center\, 400 Old Loudon Rd.\, Latham NY 12110 Event Type: Job Fair County: Albany Region: Capital Region Audience: All Interested Jobseekers Registration Information: No pre-registration required. Walk-ins welcome!\, *** This job fair will be open 9am – 10am for Veterans ONLY.\, Remember to bring copies of your resume and dress professional.\, For more information\, please email:\, Tina Dawson\, Tina.Dawson@labor.ny.gov More info: albanyjobfair.com
URL:https://columbiagreeneworks.org/event/albany-job-fair-3/
END:VEVENT
BEGIN:VEVENT
DTSTART;TZID=America/New_York:20260422T103000
DTEND;TZID=America/New_York:20260422T113000
DTSTAMP:20260424T043217
CREATED:20260324T060041Z
LAST-MODIFIED:20260422T060027Z
UID:4206-1776853800-1776857400@columbiagreeneworks.org
SUMMARY:Networking
DESCRIPTION:Wednesday\, April 22\, 2026\, 10:30 – 11:30am  \nBeyond Job Searches: Networking is your strategic tool for cultivating lasting relationships\, fostering professional growth\, and unlocking opportunities. It’s more than finding jobs; it’s a pivotal force propelling higher salaries and career advancement. Networking is the workout regimen your career muscle craves. Join us for an approachable journey to networking  \nHeld At: Virtual Workshop Event Type: Virtual Workshop County: Albany Region: Capital Region Audience: All Interested Jobseekers Language: English Registration Information: bit.ly… More info: bit.ly…
URL:https://columbiagreeneworks.org/event/networking-29/
END:VEVENT
BEGIN:VEVENT
DTSTART;TZID=America/New_York:20260422T110000
DTEND;TZID=America/New_York:20260422T120000
DTSTAMP:20260424T043217
CREATED:20260331T060136Z
LAST-MODIFIED:20260422T060028Z
UID:4284-1776855600-1776859200@columbiagreeneworks.org
SUMMARY:Time Management
DESCRIPTION:This is a virtual workshop\, please click the Zoom link below to register: \nzoom.us… Wednesday\, April 22\, 2026\, 11am – 12pm  \nMaking the most of your time and accomplishing your goals can be a daunting task. Having good time management skills can help you to make these tasks easier and more achievable. In this workshop we will cover helpful tips in managing your time during both your workday and in your personal life. We will provide tips for organization\, goal setting\, ways to reduce stress\, and much more. \nFor participants with disabilities\, if you require any reasonable accommodations to participate in the event\, please notify the Customer Engagement unit at least 72 hours prior to the event at virtualworkshops@labor.ny.gov. We will make every reasonable effort to secure an accommodation that will meet your needs. \nRegistration Link: zoom.us… More info: zoom.us…
URL:https://columbiagreeneworks.org/event/time-management-9/
END:VEVENT
BEGIN:VEVENT
DTSTART;TZID=America/New_York:20260422T110000
DTEND;TZID=America/New_York:20260422T120000
DTSTAMP:20260424T043217
CREATED:20260331T060136Z
LAST-MODIFIED:20260422T060028Z
UID:4285-1776855600-1776859200@columbiagreeneworks.org
SUMMARY:Virtual Career Center
DESCRIPTION:This is a virtual workshop\, please click the Zoom link below to register: \nzoom.us… Wednesday\, April 22\, 2026\, 11am – 12pm  \nThe Virtual Career Center (VCC)\, New York State’s premier online job search site\, is designed to help people find their next career. Through advanced artificial intelligence (AI)\, job seekers can more accurately match their skills and experience to opportunities available with New York businesses. \nIn the Virtual Career Center you can upload a resume\, apply for positions\, and explore training opportunities to step up in your career. This workshop will help you learn how to navigate the site and get the most out of the tool for your job search. \nNote: To access the Virtual Career Center you will need to have an NY.GOV account. \nFor participants with disabilities\, if you require any reasonable accommodations to participate in the event\, please notify the Customer Engagement unit at least 72 hours prior to the event at virtualworkshops@labor.ny.gov. We will make every reasonable effort to secure an accommodation that will meet your needs. \nRegistration Link: zoom.us… More info: zoom.us…
URL:https://columbiagreeneworks.org/event/virtual-career-center-8/
END:VEVENT
BEGIN:VEVENT
DTSTART;TZID=America/New_York:20260422T130000
DTEND;TZID=America/New_York:20260422T140000
DTSTAMP:20260424T043217
CREATED:20260331T060137Z
LAST-MODIFIED:20260422T060028Z
UID:4286-1776862800-1776866400@columbiagreeneworks.org
SUMMARY:Public Speaking
DESCRIPTION:This is a virtual workshop\, please click the Zoom link below to register: \nzoom.us… Wednesday\, April 22\, 2026\, 1 – 2pm  \nEveryone encounters situations where public speaking skills are necessary. It could be at work\, school\, or in other social settings. For many people\, public speaking can be difficult\, nerve wracking\, and can cause a lot of stress. This workshop will cover several techniques to help approach public speaking in a practical way and to help conquer fear. \nTips on using public speaking skills during an interview and how to recover from disasters that may occur during the interview\, will also be discussed. \nFor participants with disabilities\, if you require any reasonable accommodations to participate in the event\, please notify the Customer Engagement unit at least 72 hours prior to the event at virtualworkshops@labor.ny.gov. We will make every reasonable effort to secure an accommodation that will meet your needs. \nRegistration Link: zoom.us… More info: zoom.us…
URL:https://columbiagreeneworks.org/event/public-speaking-8/
END:VEVENT
END:VCALENDAR