BEGIN:VCALENDAR
VERSION:2.0
PRODID:-//Columbia-Greene Workforce NY - ECPv6.15.20//NONSGML v1.0//EN
CALSCALE:GREGORIAN
METHOD:PUBLISH
X-WR-CALNAME:Columbia-Greene Workforce NY
X-ORIGINAL-URL:https://columbiagreeneworks.org
X-WR-CALDESC:Events for Columbia-Greene Workforce NY
REFRESH-INTERVAL;VALUE=DURATION:PT1H
X-Robots-Tag:noindex
X-PUBLISHED-TTL:PT1H
BEGIN:VTIMEZONE
TZID:America/New_York
BEGIN:DAYLIGHT
TZOFFSETFROM:-0500
TZOFFSETTO:-0400
TZNAME:EDT
DTSTART:20250309T070000
END:DAYLIGHT
BEGIN:STANDARD
TZOFFSETFROM:-0400
TZOFFSETTO:-0500
TZNAME:EST
DTSTART:20251102T060000
END:STANDARD
BEGIN:DAYLIGHT
TZOFFSETFROM:-0500
TZOFFSETTO:-0400
TZNAME:EDT
DTSTART:20260308T070000
END:DAYLIGHT
BEGIN:STANDARD
TZOFFSETFROM:-0400
TZOFFSETTO:-0500
TZNAME:EST
DTSTART:20261101T060000
END:STANDARD
BEGIN:DAYLIGHT
TZOFFSETFROM:-0500
TZOFFSETTO:-0400
TZNAME:EDT
DTSTART:20270314T070000
END:DAYLIGHT
BEGIN:STANDARD
TZOFFSETFROM:-0400
TZOFFSETTO:-0500
TZNAME:EST
DTSTART:20271107T060000
END:STANDARD
END:VTIMEZONE
BEGIN:VEVENT
DTSTART;TZID=America/New_York:20260420T110000
DTEND;TZID=America/New_York:20260420T120000
DTSTAMP:20260420T061042
CREATED:20260331T060130Z
LAST-MODIFIED:20260420T060009Z
UID:4278-1776682800-1776686400@columbiagreeneworks.org
SUMMARY:Overview of the Federal Bonding Program
DESCRIPTION:This is a virtual workshop\, please click the Zoom link below to register: \nzoom.us… Monday\, April 20\, 2026\, 11am – 12pm  \nIf you are currently looking for work and may have a personal history that could cause a potential employer to have concerns about hiring you\, the Federal Bonding Program (FBP) may be a tool that could make the difference in whether you receive a job offer. If you have had previous experiences such as a felony or misdemeanor conviction\, incarceration\, gaps between periods of employment\, a dishonorable military discharge\, poor credit or bankruptcy\, or a history of substance abuse\, and you are having difficulty finding employment\, you will want to learn more about the FBP. \nThis webinar will:– Provide an overview of the FBP\, including who is eligible to be bonded– Explain the purpose of the Federal Bonding Program and explain why it was created– Identify what a Fidelity Bond is and how it assists employers– Explain Federal Bonding Eligibility Letters and how to obtain one– Explain the process for becoming bonded through the FBP \nFor participants with disabilities\, if you require any reasonable accommodations to participate in the event\, please notify the Customer Engagement unit at least 72 hours prior to the event at virtualworkshops@labor.ny.gov. We will make every reasonable effort to secure an accommodation that will meet your needs.  \nRegistration Link: zoom.us… More info: zoom.us…
URL:https://columbiagreeneworks.org/event/overview-of-the-federal-bonding-program/
END:VEVENT
BEGIN:VEVENT
DTSTART;TZID=America/New_York:20260420T110000
DTEND;TZID=America/New_York:20260420T120000
DTSTAMP:20260420T061042
CREATED:20260331T060130Z
LAST-MODIFIED:20260420T060010Z
UID:4279-1776682800-1776686400@columbiagreeneworks.org
SUMMARY:Resume Basics
DESCRIPTION:This is a virtual workshop\, please click the Zoom link below to register: \nzoom.us… Monday\, April 20\, 2026\, 11am – 12pm  \nYour resume and cover letter are crucial components that can set you apart from other candidates when applying for a job. This workshop will present the basics of a powerful and effective resume and cover letter. Topics discussed will include formatting\, tailoring your resume and cover letter to the job\, and getting through the application process to land an interview. \nFor participants with disabilities\, if you require any reasonable accommodations to participate in the event\, please notify the Customer Engagement unit at least 72 hours prior to the event at virtualworkshops@labor.ny.gov. We will make every reasonable effort to secure an accommodation that will meet your needs. \nRegistration Link: zoom.us… More info: zoom.us…
URL:https://columbiagreeneworks.org/event/resume-basics-6/
END:VEVENT
BEGIN:VEVENT
DTSTART;TZID=America/New_York:20260420T120000
DTEND;TZID=America/New_York:20260420T150000
DTSTAMP:20260420T061042
CREATED:20260411T060052Z
LAST-MODIFIED:20260420T060011Z
UID:4378-1776686400-1776697200@columbiagreeneworks.org
SUMMARY:Sunshine Homecare Services - Recruitment
DESCRIPTION:Monday\, April 20\, 2026\, 12 – 3pm  \nMetered street parking is available on all streets surrounding the Career Center. There is also a metered parking garage on S. James and Park Avenue.   \nCareer Center Location: Peekskill Career Center Held At: Peekskill Employment Center\, 201 South James St.\, Peekskill\, NY 10566 Region: Hudson Valley County: Westchester Event Type: Recruitment Registration Information: No pre-registration required. Walk-ins welcome!\, Remember to bring your resume and dress professional.\, For more information\, please email:\, Courtney Sagala\, courtney.sagala@labor.ny.gov Job Openings: JOB TITLE: Home Health Aides\, NUMBER OF OPENINGS: 10 – 15\, JOB SUMMARY:\, Assist clients with personal care duties such as bathing\, grooming\, feeding\, and scheduling appointments\, turning and positioning. Support clients with transfers\, ambulation\, and prescribed exercises as directed by a Home Care Nurse. Observe and report vital signs and symptoms as instructed by Home Care Nurse. Record weight\, check pulse\, temperature\, respiration rate\, and track food/fluid intake and output when directed by home care company. Prepare modified diets as ordered by Home Care Nurse. Maintain accurate records of services provided\, client conditions\, and progress. Ensure a safe and healthy environment by following asepsis standards and procedures. Maintain client and family confidentiality at all times.\, JOB REQUIREMENTS:\, - Completion of a New York State Department of Health approved Home Health Aide training program OR enrollment in an approved trainee program under RN supervision\, - Must be at least 18 years old\, - Ability to read and write in English\, - Physical examination meeting NYS Department of Health requirements for Home Health Care Workers\, - Annual submission of compliance documents (physical\, QuantiFERON or PPD test\, chest x-ray if required\, TB questionnaire)\, - 2 Forms of ID\, - Completion of 12 hours of in-service training annually\, – License/Certification: HHA Certification\, HOURS: Varies\, WAGES: $20.63 Hourly\, BENEFITS: Caribou Perks/E-Gift Cards. 401K Retirement Pension. Flexible Schedule. Health Insurance. Professional Development Assistance. Flexible Schedule Options: 4\, 8\,10\, or 12-hour shifts. Create a schedule based on your availability. Vacation and holidays.\, JOB TITLE: Licensed Practical Nurse\, NUMBER OF OPENINGS: 5 – 10\, JOB SUMMARY:\, Provide direct nursing care in home setting\, administer prescribed medication & treatment\, monitor\, document and report client health status\, respond to emergencies with appropriate interventions\, manage and maintain medical devices (feeding tubes\, catheters\, etc.)\, collaborate with families and healthcare providers\, follow individualized care plans established by the Registered Nurse (RN) Case Manager and Physician\, ensure compliance with infection control & safety procedures\, maintain accurate\, timely and detailed documentation.\, JOB REQUIREMENTS:\, – Valid Driver's license\, – Physical exam\, – Active LPN certification/license in good standing\, – Current CPR Certification\, HOURS: Varies (Full-time and part-time openings on different shifts between the hours of 8am-8pm or 8pm-8am.)\, WAGES: $40 – $45 Hourly\, BENEFITS: Health\, vacation\, holidays\, and retirement.\, JOB TITLE: Registered Nurse\, NUMBER OF OPENINGS: 5 – 10\, JOB SUMMARY:\, Provide direct nursing care in home setting\, administer prescribed medication and treatment\, monitor\, document and report client health status\, respond to emergencies with appropriate interventions\, manage and maintain medical devices (feeding tubes\, catheters\, etc.)\, collaborate with families and healthcare providers\, follow individualized care plans established by the Registered Nurse Case Manager and Physician\, ensure compliance with infection control & safety procedures\, maintain accurate\, timely and detailed documentation.  \, JOB REQUIREMENTS:\, – Valid Nursing Degree\, – Valid Nursing License\, – Valid CPR Certification\, – Valid Driver's license (Ability to travel to patients)\, – Ability to lift\, move\, and assist patients as needed\, HOURS: Varies\, WAGES: $50 – $55 Hourly\, BENEFITS: Health\, vacation\, holidays\, and retirement. More info: www.sunshinecares.com
URL:https://columbiagreeneworks.org/event/sunshine-homecare-services-recruitment-3/
END:VEVENT
BEGIN:VEVENT
DTSTART;TZID=America/New_York:20260420T130000
DTEND;TZID=America/New_York:20260420T140000
DTSTAMP:20260420T061042
CREATED:20260331T060131Z
LAST-MODIFIED:20260420T060012Z
UID:4280-1776690000-1776693600@columbiagreeneworks.org
SUMMARY:Transferable Skills
DESCRIPTION:This is a virtual workshop\, please click the Zoom link below to register: \nzoom.us… Monday\, April 20\, 2026\, 1 – 2pm  \nThis presentation will focus on learning specific brainstorming techniques so you can identify your key transferable skills. Learn how to find the key words associated with your skills and how to market your transferable skills to employers. Easy to use electronic resources will be provided for use after the presentation so you can improve your marketability in the virtual world. \nFor participants with disabilities\, if you require any reasonable accommodations to participate in the event\, please notify the Customer Engagement unit at least 72 hours prior to the event at virtualworkshops@labor.ny.gov. We will make every reasonable effort to secure an accommodation that will meet your needs. \nRegistration Link: zoom.us… More info: zoom.us…
URL:https://columbiagreeneworks.org/event/transferable-skills-31/
END:VEVENT
END:VCALENDAR